BEGIN:VCALENDAR
VERSION:2.0
PRODID:-//Pavel Žofka - ECPv6.15.20//NONSGML v1.0//EN
CALSCALE:GREGORIAN
METHOD:PUBLISH
X-ORIGINAL-URL:https://horskyvudce.cz/?lang=en
X-WR-CALDESC:Events for Pavel Žofka
REFRESH-INTERVAL;VALUE=DURATION:PT1H
X-Robots-Tag:noindex
X-PUBLISHED-TTL:PT1H
BEGIN:VTIMEZONE
TZID:Europe/Prague
BEGIN:DAYLIGHT
TZOFFSETFROM:+0100
TZOFFSETTO:+0200
TZNAME:CEST
DTSTART:20250330T010000
END:DAYLIGHT
BEGIN:STANDARD
TZOFFSETFROM:+0200
TZOFFSETTO:+0100
TZNAME:CET
DTSTART:20251026T010000
END:STANDARD
BEGIN:DAYLIGHT
TZOFFSETFROM:+0100
TZOFFSETTO:+0200
TZNAME:CEST
DTSTART:20260329T010000
END:DAYLIGHT
BEGIN:STANDARD
TZOFFSETFROM:+0200
TZOFFSETTO:+0100
TZNAME:CET
DTSTART:20261025T010000
END:STANDARD
BEGIN:DAYLIGHT
TZOFFSETFROM:+0100
TZOFFSETTO:+0200
TZNAME:CEST
DTSTART:20270328T010000
END:DAYLIGHT
BEGIN:STANDARD
TZOFFSETFROM:+0200
TZOFFSETTO:+0100
TZNAME:CET
DTSTART:20271031T010000
END:STANDARD
END:VTIMEZONE
BEGIN:VEVENT
DTSTART;VALUE=DATE:20260725
DTEND;VALUE=DATE:20260802
DTSTAMP:20260425T212433
CREATED:20260218T171859Z
LAST-MODIFIED:20260317T171706Z
UID:28469-1784944800-1785549599@horskyvudce.cz
SUMMARY:Alpy - Iva Suchá
DESCRIPTION:podle výběru…
URL:https://horskyvudce.cz/akce/alpy-iva-sucha/?lang=en
END:VEVENT
BEGIN:VEVENT
DTSTART;VALUE=DATE:20260810
DTEND;VALUE=DATE:20260813
DTSTAMP:20260425T212433
CREATED:20251128T160846Z
LAST-MODIFIED:20260317T171706Z
UID:27511-1786327200-1786499999@horskyvudce.cz
SUMMARY:Matterhorn
DESCRIPTION:Jitka Závadová
URL:https://horskyvudce.cz/akce/matterhorn-8/?lang=en
END:VEVENT
BEGIN:VEVENT
DTSTART;VALUE=DATE:20260815
DTEND;VALUE=DATE:20260824
DTSTAMP:20260425T212433
CREATED:20250925T130808Z
LAST-MODIFIED:20260317T171706Z
UID:26438-1786759200-1787450399@horskyvudce.cz
SUMMARY:Matterhorn ?
DESCRIPTION:Peter Viglaský \nsleva!
URL:https://horskyvudce.cz/akce/matterhorn-7/?lang=en
END:VEVENT
BEGIN:VEVENT
DTSTART;VALUE=DATE:20260828
DTEND;VALUE=DATE:20260913
DTSTAMP:20260425T212433
CREATED:20260317T164340Z
LAST-MODIFIED:20260317T171706Z
UID:28512-1787882400-1789178399@horskyvudce.cz
SUMMARY:Maciej - Alpy
DESCRIPTION:
URL:https://horskyvudce.cz/akce/maciej-alpy/?lang=en
END:VEVENT
END:VCALENDAR