BEGIN:VCALENDAR
VERSION:2.0
PRODID:-//Pavel Žofka - ECPv6.15.20//NONSGML v1.0//EN
CALSCALE:GREGORIAN
METHOD:PUBLISH
X-WR-CALNAME:Pavel Žofka
X-ORIGINAL-URL:https://horskyvudce.cz
X-WR-CALDESC:Akce na Pavel Žofka
REFRESH-INTERVAL;VALUE=DURATION:PT1H
X-Robots-Tag:noindex
X-PUBLISHED-TTL:PT1H
BEGIN:VTIMEZONE
TZID:Europe/Prague
BEGIN:DAYLIGHT
TZOFFSETFROM:+0100
TZOFFSETTO:+0200
TZNAME:CEST
DTSTART:20250330T010000
END:DAYLIGHT
BEGIN:STANDARD
TZOFFSETFROM:+0200
TZOFFSETTO:+0100
TZNAME:CET
DTSTART:20251026T010000
END:STANDARD
BEGIN:DAYLIGHT
TZOFFSETFROM:+0100
TZOFFSETTO:+0200
TZNAME:CEST
DTSTART:20260329T010000
END:DAYLIGHT
BEGIN:STANDARD
TZOFFSETFROM:+0200
TZOFFSETTO:+0100
TZNAME:CET
DTSTART:20261025T010000
END:STANDARD
BEGIN:DAYLIGHT
TZOFFSETFROM:+0100
TZOFFSETTO:+0200
TZNAME:CEST
DTSTART:20270328T010000
END:DAYLIGHT
BEGIN:STANDARD
TZOFFSETFROM:+0200
TZOFFSETTO:+0100
TZNAME:CET
DTSTART:20271031T010000
END:STANDARD
END:VTIMEZONE
BEGIN:VEVENT
DTSTART;VALUE=DATE:20260622
DTEND;VALUE=DATE:20260707
DTSTAMP:20260425T185527
CREATED:20250911T140545Z
LAST-MODIFIED:20260317T171705Z
UID:26091-1782093600-1783303199@horskyvudce.cz
SUMMARY:Mont Blanc
DESCRIPTION:Bára Kostihová + Jakub Hirnšal \n4 denní programChaty Tete Rouses a Gouterzáloha 1000 eur ZAPLACENO
URL:https://horskyvudce.cz/akce/mont-blanc-16/
END:VEVENT
BEGIN:VEVENT
DTSTART;VALUE=DATE:20260706
DTEND;VALUE=DATE:20260713
DTSTAMP:20260425T185527
CREATED:20250929T180508Z
LAST-MODIFIED:20260317T171705Z
UID:26542-1783303200-1783821599@horskyvudce.cz
SUMMARY:Mont Blanc
DESCRIPTION:Jakub Schauer 773775045Petr Misiorz 724389771 \nzáloha 1000 eur ZAPLACENO
URL:https://horskyvudce.cz/akce/mont-blanc-17/
END:VEVENT
BEGIN:VEVENT
DTSTART;VALUE=DATE:20260710
DTEND;VALUE=DATE:20260718
DTSTAMP:20260425T185527
CREATED:20260218T171858Z
LAST-MODIFIED:20260317T171706Z
UID:28467-1783648800-1784253599@horskyvudce.cz
SUMMARY:Mont Blanc
DESCRIPTION:Tomáš Loubal a Štefan Pecko – 6 denní programBlancdále pak Paradiso \nzáloha 1500e ZAPLACENO
URL:https://horskyvudce.cz/akce/mont-blanc-2-2/
END:VEVENT
BEGIN:VEVENT
DTSTART;VALUE=DATE:20260718
DTEND;VALUE=DATE:20260726
DTSTAMP:20260425T185527
CREATED:20260218T171859Z
LAST-MODIFIED:20260317T171706Z
UID:28468-1784340000-1784944799@horskyvudce.cz
SUMMARY:M Blanc - královský traverz
DESCRIPTION:Aleš Rybka
URL:https://horskyvudce.cz/akce/m-blanc-kralovsky-traverz/
END:VEVENT
BEGIN:VEVENT
DTSTART;VALUE=DATE:20260725
DTEND;VALUE=DATE:20260802
DTSTAMP:20260425T185527
CREATED:20260218T171859Z
LAST-MODIFIED:20260317T171706Z
UID:28469-1784944800-1785549599@horskyvudce.cz
SUMMARY:Alpy - Iva Suchá
DESCRIPTION:podle výběru…
URL:https://horskyvudce.cz/akce/alpy-iva-sucha/
END:VEVENT
END:VCALENDAR