BEGIN:VCALENDAR
VERSION:2.0
PRODID:-//Pavel Žofka - ECPv6.15.20//NONSGML v1.0//EN
CALSCALE:GREGORIAN
METHOD:PUBLISH
X-ORIGINAL-URL:https://horskyvudce.cz
X-WR-CALDESC:Akce na Pavel Žofka
REFRESH-INTERVAL;VALUE=DURATION:PT1H
X-Robots-Tag:noindex
X-PUBLISHED-TTL:PT1H
BEGIN:VTIMEZONE
TZID:Europe/Prague
BEGIN:DAYLIGHT
TZOFFSETFROM:+0100
TZOFFSETTO:+0200
TZNAME:CEST
DTSTART:20250330T010000
END:DAYLIGHT
BEGIN:STANDARD
TZOFFSETFROM:+0200
TZOFFSETTO:+0100
TZNAME:CET
DTSTART:20251026T010000
END:STANDARD
BEGIN:DAYLIGHT
TZOFFSETFROM:+0100
TZOFFSETTO:+0200
TZNAME:CEST
DTSTART:20260329T010000
END:DAYLIGHT
BEGIN:STANDARD
TZOFFSETFROM:+0200
TZOFFSETTO:+0100
TZNAME:CET
DTSTART:20261025T010000
END:STANDARD
BEGIN:DAYLIGHT
TZOFFSETFROM:+0100
TZOFFSETTO:+0200
TZNAME:CEST
DTSTART:20270328T010000
END:DAYLIGHT
BEGIN:STANDARD
TZOFFSETFROM:+0200
TZOFFSETTO:+0100
TZNAME:CET
DTSTART:20271031T010000
END:STANDARD
END:VTIMEZONE
BEGIN:VEVENT
DTSTART;VALUE=DATE:20260601
DTEND;VALUE=DATE:20260604
DTSTAMP:20260425T174011
CREATED:20251128T160846Z
LAST-MODIFIED:20260317T171705Z
UID:27510-1780279200-1780451999@horskyvudce.cz
SUMMARY:Mont Blanc
DESCRIPTION:Matěj Kracman \n1 osobaPouze 3 denní výstupZáloha 1000 eur ZAPLACENO \n602421751
URL:https://horskyvudce.cz/akce/mont-blanc-18/
END:VEVENT
BEGIN:VEVENT
DTSTART;VALUE=DATE:20260605
DTEND;VALUE=DATE:20260612
DTSTAMP:20260425T174011
CREATED:20260218T171857Z
LAST-MODIFIED:20260317T171705Z
UID:28461-1780624800-1781143199@horskyvudce.cz
SUMMARY:Vysoké Tatry
DESCRIPTION:Martina ChodurováBára Kostihová – víkend…Kristýna HavlováJarek Hubač…
URL:https://horskyvudce.cz/akce/vysoke-tatry/
END:VEVENT
BEGIN:VEVENT
DTSTART;VALUE=DATE:20260612
DTEND;VALUE=DATE:20260616
DTSTAMP:20260425T174011
CREATED:20250922T130748Z
LAST-MODIFIED:20260317T171705Z
UID:26364-1781229600-1781488799@horskyvudce.cz
SUMMARY:Lezecký kurz - Studenecké skály?
DESCRIPTION:robli@
URL:https://horskyvudce.cz/akce/lezecky-kurz-studenecke-skaly-2/
END:VEVENT
BEGIN:VEVENT
DTSTART;VALUE=DATE:20260615
DTEND;VALUE=DATE:20260620
DTSTAMP:20260425T174011
CREATED:20260218T171858Z
LAST-MODIFIED:20260317T171705Z
UID:28462-1781488800-1781834399@horskyvudce.cz
SUMMARY:Ledovcový kurz - Oberwalder hutte
DESCRIPTION:Křivková – 3 osobyJakub JungŠimečka + 1
URL:https://horskyvudce.cz/akce/ledovcovy-kurz-oberwalder-hutte/
END:VEVENT
BEGIN:VEVENT
DTSTART;VALUE=DATE:20260620
DTEND;VALUE=DATE:20260624
DTSTAMP:20260425T174011
CREATED:20260218T171858Z
LAST-MODIFIED:20260317T171705Z
UID:28463-1781920800-1782179999@horskyvudce.cz
SUMMARY:Grossglockner
DESCRIPTION:Tomáš Kelisek + 1asi zdatní \n605263898
URL:https://horskyvudce.cz/akce/grossglockner-2-2/
END:VEVENT
BEGIN:VEVENT
DTSTART;VALUE=DATE:20260622
DTEND;VALUE=DATE:20260707
DTSTAMP:20260425T174011
CREATED:20250911T140545Z
LAST-MODIFIED:20260317T171705Z
UID:26091-1782093600-1783303199@horskyvudce.cz
SUMMARY:Mont Blanc
DESCRIPTION:Bára Kostihová + Jakub Hirnšal \n4 denní programChaty Tete Rouses a Gouterzáloha 1000 eur ZAPLACENO
URL:https://horskyvudce.cz/akce/mont-blanc-16/
END:VEVENT
BEGIN:VEVENT
DTSTART;VALUE=DATE:20260623
DTEND;VALUE=DATE:20260626
DTSTAMP:20260425T174011
CREATED:20260218T171858Z
LAST-MODIFIED:20260317T171705Z
UID:28465-1782180000-1782352799@horskyvudce.cz
SUMMARY:Grossglockner
DESCRIPTION:Jiří Merta3 osoby \n725834560
URL:https://horskyvudce.cz/akce/grossglockner-3/
END:VEVENT
BEGIN:VEVENT
DTSTART;VALUE=DATE:20260624
DTEND;VALUE=DATE:20260628
DTSTAMP:20260425T174011
CREATED:20260218T171858Z
LAST-MODIFIED:20260317T171705Z
UID:28466-1782266400-1782525599@horskyvudce.cz
SUMMARY:Grossglockner Studlgrad
DESCRIPTION:Aleš Rybka
URL:https://horskyvudce.cz/akce/grossglockner-studlgrad/
END:VEVENT
END:VCALENDAR