BEGIN:VCALENDAR
VERSION:2.0
PRODID:-//Pavel Žofka - ECPv6.15.20//NONSGML v1.0//EN
CALSCALE:GREGORIAN
METHOD:PUBLISH
X-WR-CALNAME:Pavel Žofka
X-ORIGINAL-URL:https://horskyvudce.cz
X-WR-CALDESC:Akce na Pavel Žofka
REFRESH-INTERVAL;VALUE=DURATION:PT1H
X-Robots-Tag:noindex
X-PUBLISHED-TTL:PT1H
BEGIN:VTIMEZONE
TZID:Europe/Prague
BEGIN:DAYLIGHT
TZOFFSETFROM:+0100
TZOFFSETTO:+0200
TZNAME:CEST
DTSTART:20250330T010000
END:DAYLIGHT
BEGIN:STANDARD
TZOFFSETFROM:+0200
TZOFFSETTO:+0100
TZNAME:CET
DTSTART:20251026T010000
END:STANDARD
BEGIN:DAYLIGHT
TZOFFSETFROM:+0100
TZOFFSETTO:+0200
TZNAME:CEST
DTSTART:20260329T010000
END:DAYLIGHT
BEGIN:STANDARD
TZOFFSETFROM:+0200
TZOFFSETTO:+0100
TZNAME:CET
DTSTART:20261025T010000
END:STANDARD
BEGIN:DAYLIGHT
TZOFFSETFROM:+0100
TZOFFSETTO:+0200
TZNAME:CEST
DTSTART:20270328T010000
END:DAYLIGHT
BEGIN:STANDARD
TZOFFSETFROM:+0200
TZOFFSETTO:+0100
TZNAME:CET
DTSTART:20271031T010000
END:STANDARD
END:VTIMEZONE
BEGIN:VEVENT
DTSTART;VALUE=DATE:20260111
DTEND;VALUE=DATE:20260118
DTSTAMP:20260425T185529
CREATED:20251203T165053Z
LAST-MODIFIED:20260317T171704Z
UID:28148-1768093200-1768611599@horskyvudce.cz
SUMMARY:Snow FEST?
DESCRIPTION:
URL:https://horskyvudce.cz/akce/snow-fest/
END:VEVENT
BEGIN:VEVENT
DTSTART;VALUE=DATE:20260123
DTEND;VALUE=DATE:20260127
DTSTAMP:20260425T185529
CREATED:20260219T162436Z
LAST-MODIFIED:20260317T171704Z
UID:28485-1769130000-1769389199@horskyvudce.cz
SUMMARY:Ledolezení - v. Tatry
DESCRIPTION:Jarek HubačBielovodská dolina
URL:https://horskyvudce.cz/akce/ledolezeni-v-tatry/
END:VEVENT
BEGIN:VEVENT
DTSTART;VALUE=DATE:20260130
DTEND;VALUE=DATE:20260201
DTSTAMP:20260425T185529
CREATED:20260219T162436Z
LAST-MODIFIED:20260317T171704Z
UID:28486-1769734800-1769821199@horskyvudce.cz
SUMMARY:Skialp kurzík
DESCRIPTION:PoukazButorka + 2 osoby \nObdarovaný výbava zdarma + kurz pro všechnydalší si platí vybavení
URL:https://horskyvudce.cz/akce/skialp-kurzik/
END:VEVENT
END:VCALENDAR