BEGIN:VCALENDAR
VERSION:2.0
PRODID:-//Pavel Žofka - ECPv6.15.20//NONSGML v1.0//EN
CALSCALE:GREGORIAN
METHOD:PUBLISH
X-WR-CALNAME:Pavel Žofka
X-ORIGINAL-URL:https://horskyvudce.cz
X-WR-CALDESC:Akce na Pavel Žofka
REFRESH-INTERVAL;VALUE=DURATION:PT1H
X-Robots-Tag:noindex
X-PUBLISHED-TTL:PT1H
BEGIN:VTIMEZONE
TZID:Europe/Prague
BEGIN:DAYLIGHT
TZOFFSETFROM:+0100
TZOFFSETTO:+0200
TZNAME:CEST
DTSTART:20240331T010000
END:DAYLIGHT
BEGIN:STANDARD
TZOFFSETFROM:+0200
TZOFFSETTO:+0100
TZNAME:CET
DTSTART:20241027T010000
END:STANDARD
BEGIN:DAYLIGHT
TZOFFSETFROM:+0100
TZOFFSETTO:+0200
TZNAME:CEST
DTSTART:20250330T010000
END:DAYLIGHT
BEGIN:STANDARD
TZOFFSETFROM:+0200
TZOFFSETTO:+0100
TZNAME:CET
DTSTART:20251026T010000
END:STANDARD
BEGIN:DAYLIGHT
TZOFFSETFROM:+0100
TZOFFSETTO:+0200
TZNAME:CEST
DTSTART:20260329T010000
END:DAYLIGHT
BEGIN:STANDARD
TZOFFSETFROM:+0200
TZOFFSETTO:+0100
TZNAME:CET
DTSTART:20261025T010000
END:STANDARD
END:VTIMEZONE
BEGIN:VEVENT
DTSTART;VALUE=DATE:20250730
DTEND;VALUE=DATE:20250802
DTSTAMP:20260426T010741
CREATED:20250627T130701Z
LAST-MODIFIED:20260317T171702Z
UID:24142-1753840800-1754013599@horskyvudce.cz
SUMMARY:Matterhorn - Nechyba
DESCRIPTION:Zaplaceno záloha 1000 eurSraz odpoledne na Hornli \nbez aklimatizace\, udělá si sám \n606663617
URL:https://horskyvudce.cz/akce/matterhorn-nechyba-2/
END:VEVENT
BEGIN:VEVENT
DTSTART;VALUE=DATE:20250801
DTEND;VALUE=DATE:20250803
DTSTAMP:20260426T010741
CREATED:20250724T100541Z
LAST-MODIFIED:20260317T171702Z
UID:24825-1754013600-1754099999@horskyvudce.cz
SUMMARY:Gniffeti rezervace
DESCRIPTION:Depozit 120 eur
URL:https://horskyvudce.cz/akce/gniffeti-rezervace/
END:VEVENT
BEGIN:VEVENT
DTSTART;VALUE=DATE:20250801
DTEND;VALUE=DATE:20250804
DTSTAMP:20260426T010741
CREATED:20251203T165300Z
LAST-MODIFIED:20260317T171702Z
UID:28173-1754013600-1754186399@horskyvudce.cz
SUMMARY:Monte Rosa Masiv
DESCRIPTION:Bára Kostihová \nchata Margharita + nějaký vrchol okolo \nZaplaceno 1000 eur \nPůjčit sedák\, přilbu\, mačky a cepín
URL:https://horskyvudce.cz/akce/monte-rosa-masiv/
END:VEVENT
BEGIN:VEVENT
DTSTART;VALUE=DATE:20250802
DTEND;VALUE=DATE:20250804
DTSTAMP:20260426T010741
CREATED:20250724T210908Z
LAST-MODIFIED:20260317T171702Z
UID:24837-1754100000-1754186399@horskyvudce.cz
SUMMARY:Margharita rezervace
DESCRIPTION:
URL:https://horskyvudce.cz/akce/margharita-rezervace/
END:VEVENT
BEGIN:VEVENT
DTSTART;VALUE=DATE:20250805
DTEND;VALUE=DATE:20250809
DTSTAMP:20260426T010741
CREATED:20250428T100933Z
LAST-MODIFIED:20260317T171702Z
UID:22525-1754359200-1754618399@horskyvudce.cz
SUMMARY:Matterhorn - 2 osoby
DESCRIPTION:Mašítová Valerie + 1 ( otec) \naklimatizace 1 den \nZaplaceno 2000 eurDoplatek 2400 eur \n+ guide Denisa – zaplaceno
URL:https://horskyvudce.cz/akce/matterhorn-2-osoby/
END:VEVENT
BEGIN:VEVENT
DTSTART;VALUE=DATE:20250808
DTEND;VALUE=DATE:20250811
DTSTAMP:20260426T010741
CREATED:20250428T100934Z
LAST-MODIFIED:20260317T171702Z
UID:22526-1754618400-1754791199@horskyvudce.cz
SUMMARY:Dufourspitze
DESCRIPTION:Janovská Pavla + Jarek \nZaplacena záloha 700 eur
URL:https://horskyvudce.cz/akce/dufourspitze-5/
END:VEVENT
BEGIN:VEVENT
DTSTART;VALUE=DATE:20250812
DTEND;VALUE=DATE:20250818
DTSTAMP:20260426T010741
CREATED:20251203T165300Z
LAST-MODIFIED:20260317T171703Z
UID:28174-1754964000-1755395999@horskyvudce.cz
SUMMARY:Jirka Matoušek
DESCRIPTION:Jirka Matoušek \nVymyslet plán
URL:https://horskyvudce.cz/akce/jirka-matousek-4/
END:VEVENT
BEGIN:VEVENT
DTSTART;VALUE=DATE:20250818
DTEND;VALUE=DATE:20250821
DTSTAMP:20260426T010741
CREATED:20251203T165301Z
LAST-MODIFIED:20260317T171703Z
UID:28175-1755482400-1755655199@horskyvudce.cz
SUMMARY:Matterhorn
DESCRIPTION:Šimko \nZaplaceno oboje
URL:https://horskyvudce.cz/akce/matterhorn-5/
END:VEVENT
BEGIN:VEVENT
DTSTART;VALUE=DATE:20250824
DTEND;VALUE=DATE:20250829
DTSTAMP:20260426T010741
CREATED:20251203T165301Z
LAST-MODIFIED:20260317T171703Z
UID:28176-1756000800-1756346399@horskyvudce.cz
SUMMARY:Martin Cermák + syn
DESCRIPTION:
URL:https://horskyvudce.cz/akce/martin-cermak-syn/
END:VEVENT
END:VCALENDAR