BEGIN:VCALENDAR
VERSION:2.0
PRODID:-//Pavel Žofka - ECPv6.15.20//NONSGML v1.0//EN
CALSCALE:GREGORIAN
METHOD:PUBLISH
X-WR-CALNAME:Pavel Žofka
X-ORIGINAL-URL:https://horskyvudce.cz
X-WR-CALDESC:Akce na Pavel Žofka
REFRESH-INTERVAL;VALUE=DURATION:PT1H
X-Robots-Tag:noindex
X-PUBLISHED-TTL:PT1H
BEGIN:VTIMEZONE
TZID:Europe/Prague
BEGIN:DAYLIGHT
TZOFFSETFROM:+0100
TZOFFSETTO:+0200
TZNAME:CEST
DTSTART:20240331T010000
END:DAYLIGHT
BEGIN:STANDARD
TZOFFSETFROM:+0200
TZOFFSETTO:+0100
TZNAME:CET
DTSTART:20241027T010000
END:STANDARD
BEGIN:DAYLIGHT
TZOFFSETFROM:+0100
TZOFFSETTO:+0200
TZNAME:CEST
DTSTART:20250330T010000
END:DAYLIGHT
BEGIN:STANDARD
TZOFFSETFROM:+0200
TZOFFSETTO:+0100
TZNAME:CET
DTSTART:20251026T010000
END:STANDARD
BEGIN:DAYLIGHT
TZOFFSETFROM:+0100
TZOFFSETTO:+0200
TZNAME:CEST
DTSTART:20260329T010000
END:DAYLIGHT
BEGIN:STANDARD
TZOFFSETFROM:+0200
TZOFFSETTO:+0100
TZNAME:CET
DTSTART:20261025T010000
END:STANDARD
END:VTIMEZONE
BEGIN:VEVENT
DTSTART;VALUE=DATE:20250702
DTEND;VALUE=DATE:20250708
DTSTAMP:20260426T022114
CREATED:20251203T165259Z
LAST-MODIFIED:20260317T171701Z
UID:28168-1751421600-1751853599@horskyvudce.cz
SUMMARY:Mont Blanc
DESCRIPTION:Marek a Matěj Dvořák \n728627710
URL:https://horskyvudce.cz/akce/mont-blanc-4/
END:VEVENT
BEGIN:VEVENT
DTSTART;VALUE=DATE:20250702
DTEND;VALUE=DATE:20250704
DTSTAMP:20260426T022114
CREATED:20251203T165300Z
LAST-MODIFIED:20260317T171701Z
UID:28169-1751421600-1751507999@horskyvudce.cz
SUMMARY:Chabot - rezervace
DESCRIPTION:otec se synem3 místa
URL:https://horskyvudce.cz/akce/chabot-rezervace/
END:VEVENT
BEGIN:VEVENT
DTSTART;VALUE=DATE:20250704
DTEND;VALUE=DATE:20250707
DTSTAMP:20260426T022114
CREATED:20251203T165300Z
LAST-MODIFIED:20260317T171701Z
UID:28170-1751594400-1751767199@horskyvudce.cz
SUMMARY:Rezervace Tete Rouse
DESCRIPTION:3 osoby
URL:https://horskyvudce.cz/akce/rezervace-tete-rouse/
END:VEVENT
BEGIN:VEVENT
DTSTART;VALUE=DATE:20250708
DTEND;VALUE=DATE:20250714
DTSTAMP:20260426T022114
CREATED:20250428T100933Z
LAST-MODIFIED:20260317T171701Z
UID:22520-1751940000-1752371999@horskyvudce.cz
SUMMARY:Mont Blanc
DESCRIPTION:Jirka Geisler + Petra \nAklimat Paradiso \n3990 eur
URL:https://horskyvudce.cz/akce/mont-blanc-13/
END:VEVENT
BEGIN:VEVENT
DTSTART;VALUE=DATE:20250710
DTEND;VALUE=DATE:20250712
DTSTAMP:20260426T022114
CREATED:20250707T090915Z
LAST-MODIFIED:20260317T171701Z
UID:24382-1752112800-1752199199@horskyvudce.cz
SUMMARY:Rezervace Plan de Glacier
DESCRIPTION:2 osoby
URL:https://horskyvudce.cz/akce/rezervace-plan-de-glacier/
END:VEVENT
BEGIN:VEVENT
DTSTART;VALUE=DATE:20250711
DTEND;VALUE=DATE:20250713
DTSTAMP:20260426T022114
CREATED:20251203T165300Z
LAST-MODIFIED:20260317T171701Z
UID:28171-1752199200-1752285599@horskyvudce.cz
SUMMARY:Rezervace Durier
DESCRIPTION:2 osoby
URL:https://horskyvudce.cz/akce/rezervace-durier/
END:VEVENT
BEGIN:VEVENT
DTSTART;VALUE=DATE:20250720
DTEND;VALUE=DATE:20250725
DTSTAMP:20260426T022114
CREATED:20250428T100933Z
LAST-MODIFIED:20260317T171701Z
UID:22521-1752976800-1753322399@horskyvudce.cz
SUMMARY:Mont Blanc
DESCRIPTION:Kiss a Kissováaklimatizace a výstup přes Gouter \n+421903611349 \nZaplaceno 1000 eurDoplatek 1690 eur \ncoinsman99@gmail.com
URL:https://horskyvudce.cz/akce/mont-blanc-14/
END:VEVENT
BEGIN:VEVENT
DTSTART;VALUE=DATE:20250722
DTEND;VALUE=DATE:20250724
DTSTAMP:20260426T022114
CREATED:20250428T100933Z
LAST-MODIFIED:20260317T171702Z
UID:22522-1753149600-1753235999@horskyvudce.cz
SUMMARY:Gouter
DESCRIPTION:Kiss a KissováZáloha 149 eur
URL:https://horskyvudce.cz/akce/gouter-6/
END:VEVENT
BEGIN:VEVENT
DTSTART;VALUE=DATE:20250729
DTEND;VALUE=DATE:20250801
DTSTAMP:20260426T022114
CREATED:20251203T165300Z
LAST-MODIFIED:20260317T171702Z
UID:28172-1753754400-1753927199@horskyvudce.cz
SUMMARY:Zrušeno - Matterhorn - Horalík
DESCRIPTION:Zaplaceno – poukazTel: 776163005 \nSraz na Hornli mezi 14-15h \nZaplatí lanovku
URL:https://horskyvudce.cz/akce/zruseno-matterhorn-horalik/
END:VEVENT
BEGIN:VEVENT
DTSTART;VALUE=DATE:20250730
DTEND;VALUE=DATE:20250802
DTSTAMP:20260426T022114
CREATED:20250627T130701Z
LAST-MODIFIED:20260317T171702Z
UID:24142-1753840800-1754013599@horskyvudce.cz
SUMMARY:Matterhorn - Nechyba
DESCRIPTION:Zaplaceno záloha 1000 eurSraz odpoledne na Hornli \nbez aklimatizace\, udělá si sám \n606663617
URL:https://horskyvudce.cz/akce/matterhorn-nechyba-2/
END:VEVENT
BEGIN:VEVENT
DTSTART;VALUE=DATE:20250730
DTEND;VALUE=DATE:20250801
DTSTAMP:20260426T022114
CREATED:20250716T200624Z
LAST-MODIFIED:20260317T171702Z
UID:24642-1753840800-1753927199@horskyvudce.cz
SUMMARY:Rezervace Hörnli
DESCRIPTION:
URL:https://horskyvudce.cz/akce/rezervace-hornli-7/
END:VEVENT
END:VCALENDAR